Workbook

Sheet Rechner
A1: Ergebniswette Rechner (Poisson Modell)
A2: wettbonus360.com · kostenlos · gelbe Felder ausfüllen, alles andere rechnet automatisch
A4: 1. Erwartete Tore schätzen (optional)
A5: Heimteam: erzielte Tore pro Heimspiel | B5: 2
A6: Heimteam: Gegentore pro Heimspiel | B6: 1.2
A7: Gastteam: erzielte Tore pro Auswärtsspiel | B7: 1.4
A8: Gastteam: Gegentore pro Auswärtsspiel | B8: 1.8
A9: Liga: Heimtore pro Spiel | B9: 1.78 | C9: Ligaschnitt Bundesliga 2025/26 (306 Spiele)
A10: Liga: Auswärtstore pro Spiel | B10: 1.46
A11: Geschätzte Tore Heimteam | B11: =IFERROR(B5*B8/B9,0) -> 2.0224719 | C11: Formel: Angriff Heim × Abwehr Gast ÷ Ligaschnitt
A12: Geschätzte Tore Gastteam | B12: =IFERROR(B7*B6/B10,0) -> 1.1506849
A14: 2. Erwartete Tore für die Berechnung
A15: Eigener Wert Heim (leer lassen = Schätzung oben)
A16: Eigener Wert Gast (leer lassen = Schätzung oben)
A17: Verwendet: Tore Heim | B17: =IF(ISNUMBER(B15),B15,B11) -> 2.0224719
A18: Verwendet: Tore Gast | B18: =IF(ISNUMBER(B16),B16,B12) -> 1.1506849
A20: 3. Wahrscheinlichkeit je Ergebnis (Zeile = Heimtore, Spalte = Gasttore)
A21: Heim \ Gast | B21: 0 | C21: 1 | D21: 2 | E21: 3 | F21: 4 | G21: 5
A22: 0 | B22: =POISSON($A22,$B$17,0)*POISSON(B$21,$B$18,0) -> 0.041871208 | C22: =POISSON($A22,$B$17,0)*POISSON(C$21,$B$18,0) -> 0.048180568 | D22: =POISSON($A22,$B$17,0)*POISSON(D$21,$B$18,0) -> 0.027720327 | E22: =POISSON($A22,$B$17,0)*POISSON(E$21,$B$18,0) -> 0.010632454 | F22: =POISSON($A22,$B$17,0)*POISSON(F$21,$B$18,0) -> 0.0030586512 | G22: =POISSON($A22,$B$17,0)*POISSON(G$21,$B$18,0) -> 0.00070390877
A23: 1 | B23: =POISSON($A23,$B$17,0)*POISSON(B$21,$B$18,0) -> 0.084683343 | C23: =POISSON($A23,$B$17,0)*POISSON(C$21,$B$18,0) -> 0.097443846 | D23: =POISSON($A23,$B$17,0)*POISSON(D$21,$B$18,0) -> 0.056063583 | E23: =POISSON($A23,$B$17,0)*POISSON(E$21,$B$18,0) -> 0.02150384 | F23: =POISSON($A23,$B$17,0)*POISSON(F$21,$B$18,0) -> 0.0061860362 | G23: =POISSON($A23,$B$17,0)*POISSON(G$21,$B$18,0) -> 0.0014236357
A24: 2 | B24: =POISSON($A24,$B$17,0)*POISSON(B$21,$B$18,0) -> 0.085634841 | C24: =POISSON($A24,$B$17,0)*POISSON(C$21,$B$18,0) -> 0.098538721 | D24: =POISSON($A24,$B$17,0)*POISSON(D$21,$B$18,0) -> 0.056693511 | E24: =POISSON($A24,$B$17,0)*POISSON(E$21,$B$18,0) -> 0.021745456 | F24: =POISSON($A24,$B$17,0)*POISSON(F$21,$B$18,0) -> 0.0062555422 | G24: =POISSON($A24,$B$17,0)*POISSON(G$21,$B$18,0) -> 0.0014396316
A25: 3 | B25: =POISSON($A25,$B$17,0)*POISSON(B$21,$B$18,0) -> 0.057731353 | C25: =POISSON($A25,$B$17,0)*POISSON(C$21,$B$18,0) -> 0.066430598 | D25: =POISSON($A25,$B$17,0)*POISSON(D$21,$B$18,0) -> 0.038220344 | E25: =POISSON($A25,$B$17,0)*POISSON(E$21,$B$18,0) -> 0.014659858 | F25: =POISSON($A25,$B$17,0)*POISSON(F$21,$B$18,0) -> 0.0042172194 | G25: =POISSON($A25,$B$17,0)*POISSON(G$21,$B$18,0) -> 0.00097053817
A26: 4 | B26: =POISSON($A26,$B$17,0)*POISSON(B$21,$B$18,0) -> 0.02919001 | C26: =POISSON($A26,$B$17,0)*POISSON(C$21,$B$18,0) -> 0.033588505 | D26: =POISSON($A26,$B$17,0)*POISSON(D$21,$B$18,0) -> 0.019324893 | E26: =POISSON($A26,$B$17,0)*POISSON(E$21,$B$18,0) -> 0.0074122878 | F26: =POISSON($A26,$B$17,0)*POISSON(F$21,$B$18,0) -> 0.002132302 | G26: =POISSON($A26,$B$17,0)*POISSON(G$21,$B$18,0) -> 0.00049072155
A27: 5 | B27: =POISSON($A27,$B$17,0)*POISSON(B$21,$B$18,0) -> 0.011807195 | C27: =POISSON($A27,$B$17,0)*POISSON(C$21,$B$18,0) -> 0.013586361 | D27: =POISSON($A27,$B$17,0)*POISSON(D$21,$B$18,0) -> 0.0078168107 | E27: =POISSON($A27,$B$17,0)*POISSON(E$21,$B$18,0) -> 0.0029982288 | F27: =POISSON($A27,$B$17,0)*POISSON(F$21,$B$18,0) -> 0.00086250417 | G27: =POISSON($A27,$B$17,0)*POISSON(G$21,$B$18,0) -> 0.00019849411
A28: Alle anderen Ergebnisse (ein Team 6+ Tore) | B28: =1-SUM(B22:G27) -> 0.018582671
A30: 4. Faire Quote je Ergebnis (ohne Marge)
A31: Heim \ Gast | B31: 0 | C31: 1 | D31: 2 | E31: 3 | F31: 4 | G31: 5
A32: 0 | B32: =IFERROR(1/B22,"-") -> 23.88276 | C32: =IFERROR(1/C22,"-") -> 20.755255 | D32: =IFERROR(1/D22,"-") -> 36.07461 | E32: =IFERROR(1/E22,"-") -> 94.051663 | F32: =IFERROR(1/F22,"-") -> 326.9415 | G32: =IFERROR(1/G22,"-") -> 1420.6386
A33: 1 | B33: =IFERROR(1/B23,"-") -> 11.808698 | C33: =IFERROR(1/C23,"-") -> 10.262321 | D33: =IFERROR(1/D23,"-") -> 17.836891 | E33: =IFERROR(1/E23,"-") -> 46.503322 | F33: =IFERROR(1/F23,"-") -> 161.65441 | G33: =IFERROR(1/G23,"-") -> 702.42688
A34: 2 | B34: =IFERROR(1/B24,"-") -> 11.67749 | C34: =IFERROR(1/C24,"-") -> 10.148295 | D34: =IFERROR(1/D24,"-") -> 17.638703 | E34: =IFERROR(1/E24,"-") -> 45.986619 | F34: =IFERROR(1/F24,"-") -> 159.85825 | G34: =IFERROR(1/G24,"-") -> 694.62214
A35: 3 | B35: =IFERROR(1/B25,"-") -> 17.32161 | C35: =IFERROR(1/C25,"-") -> 15.053304 | D35: =IFERROR(1/D25,"-") -> 26.164076 | E35: =IFERROR(1/E25,"-") -> 68.213484 | F35: =IFERROR(1/F25,"-") -> 237.12306 | G35: =IFERROR(1/G25,"-") -> 1030.3562
A36: 4 | B36: =IFERROR(1/B26,"-") -> 34.258296 | C36: =IFERROR(1/C26,"-") -> 29.77209 | D36: =IFERROR(1/D26,"-") -> 51.746728 | E36: =IFERROR(1/E26,"-") -> 134.91111 | F36: =IFERROR(1/F26,"-") -> 468.97673 | G36: =IFERROR(1/G26,"-") -> 2037.8155
A37: 5 | B37: =IFERROR(1/B27,"-") -> 84.69412 | C37: =IFERROR(1/C27,"-") -> 73.603223 | D37: =IFERROR(1/D27,"-") -> 127.92941 | E37: =IFERROR(1/E27,"-") -> 333.53025 | F37: =IFERROR(1/F27,"-") -> 1159.4147 | G37: =IFERROR(1/G27,"-") -> 5037.9329
A39: Heimsieg laut Modell | B39: =SUMPRODUCT((Matrix!B3:L13)*(Matrix!A3:A13>Matrix!B2:L2)) -> 0.57518911
A40: Unentschieden laut Modell | B40: =SUMPRODUCT((Matrix!B3:L13)*(Matrix!A3:A13=Matrix!B2:L2)) -> 0.21301268
A41: Auswärtssieg laut Modell | B41: =SUMPRODUCT((Matrix!B3:L13)*(Matrix!A3:A13<Matrix!B2:L2)) -> 0.21178896
A43: 5. Deinen Tipp prüfen
A44: Getipptes Ergebnis: Tore Heim | B44: 2
A45: Getipptes Ergebnis: Tore Gast | B45: 1
A46: Angebotene Quote beim Wettanbieter | B46: 9
A47: Einsatz in € | B47: 5
A48: Wahrscheinlichkeit laut Modell | B48: =POISSON(B44,B17,0)*POISSON(B45,B18,0) -> 0.098538721
A49: Faire Quote laut Modell | B49: =IFERROR(1/B48,0) -> 10.148295
A50: Wahrscheinlichkeit laut Anbieterquote | B50: =IFERROR(1/B46,0) -> 0.11111111
A51: Value (Quote × Wahrscheinlichkeit − 1) | B51: =B46*B48-1 -> -0.11315151
A52: Erwarteter Gewinn pro Wette in € | B52: =B47*B51 -> -0.56575756
A53: Einschätzung | B53: =IF(B51>0,"Quote liegt über der fairen Quote laut Modell","Quote liegt unter der fairen Quote laut Modell") -> Quote liegt unter der fairen Quote laut Modell
A55: 6. Mehrere Ergebnisse abdecken (Einsatz aufteilen)
A56: Gesamteinsatz in € | B56: 10
A57: Ergebnis | B57: Quote | C57: Anteil | D57: Einsatz | E57: Auszahlung | F57: Hilfswert
A58: 2:1 | B58: 9 | C58: =IFERROR(F58/SUM($F$58:$F$61),0) -> 0.23559691 | D58: =$B$56*C58 -> 2.3559691 | E58: =D58*B58 -> 21.203722 | F58: =IF(ISNUMBER(B58),1/B58,0) -> 0.11111111
A59: 1:1 | B59: 7 | C59: =IFERROR(F59/SUM($F$58:$F$61),0) -> 0.30291031 | D59: =$B$56*C59 -> 3.0291031 | E59: =D59*B59 -> 21.203722 | F59: =IF(ISNUMBER(B59),1/B59,0) -> 0.14285714
A60: 1:0 | B60: 8.5 | C60: =IFERROR(F60/SUM($F$58:$F$61),0) -> 0.24945555 | D60: =$B$56*C60 -> 2.4945555 | E60: =D60*B60 -> 21.203722 | F60: =IF(ISNUMBER(B60),1/B60,0) -> 0.11764706
A61: 2:0 | B61: 10 | C61: =IFERROR(F61/SUM($F$58:$F$61),0) -> 0.21203722 | D61: =$B$56*C61 -> 2.1203722 | E61: =D61*B61 -> 21.203722 | F61: =IF(ISNUMBER(B61),1/B61,0) -> 0.1
A62: Gemeinsame Quote aller Ergebnisse | B62: =IFERROR(1/SUM(F58:F61),0) -> 2.1203722
A63: Hinweis: Leere Quotenfelder werden ignoriert. Wettsteuer ist nicht eingerechnet.
A65: Legende: Gelbe Felder sind Eingaben (Beispielwerte enthalten). Das Modell nimmt an, dass die Tore beider Teams unabhängig fallen (Poisson Verteilung).
A66: Es unterschätzt Unentschieden leicht und ersetzt keine eigene Analyse. Ergebnisse sind Schätzungen, keine Gewinngarantie. Spiel verantwortungsvoll, Hilfe: 0800 1 37 27 00 (BIÖG).

Sheet Matrix
A1: Hilfsmatrix 0 bis 10 Tore für Heimsieg, Unentschieden, Auswärtssieg
B2: 0 | C2: 1 | D2: 2 | E2: 3 | F2: 4 | G2: 5 | H2: 6 | I2: 7 | J2: 8 | K2: 9 | L2: 10
A3: 0 | B3: =POISSON($A3,Rechner!$B$17,0)*POISSON(B$2,Rechner!$B$18,0) -> 0.041871208 | C3: =POISSON($A3,Rechner!$B$17,0)*POISSON(C$2,Rechner!$B$18,0) -> 0.048180568 | D3: =POISSON($A3,Rechner!$B$17,0)*POISSON(D$2,Rechner!$B$18,0) -> 0.027720327 | E3: =POISSON($A3,Rechner!$B$17,0)*POISSON(E$2,Rechner!$B$18,0) -> 0.010632454 | F3: =POISSON($A3,Rechner!$B$17,0)*POISSON(F$2,Rechner!$B$18,0) -> 0.0030586512 | G3: =POISSON($A3,Rechner!$B$17,0)*POISSON(G$2,Rechner!$B$18,0) -> 0.00070390877 | H3: =POISSON($A3,Rechner!$B$17,0)*POISSON(H$2,Rechner!$B$18,0) -> 0.0001349962 | I3: =POISSON($A3,Rechner!$B$17,0)*POISSON(I$2,Rechner!$B$18,0) -> 2.2191157e-05 | ... L3: =POISSON($A3,Rechner!$B$17,0)*POISSON(L$2,Rechner!$B$18,0) -> 4.6958771e-08
A4: 1 | B4: =POISSON($A4,Rechner!$B$17,0)*POISSON(B$2,Rechner!$B$18,0) -> 0.084683343 | C4: =POISSON($A4,Rechner!$B$17,0)*POISSON(C$2,Rechner!$B$18,0) -> 0.097443846 | D4: =POISSON($A4,Rechner!$B$17,0)*POISSON(D$2,Rechner!$B$18,0) -> 0.056063583 | E4: =POISSON($A4,Rechner!$B$17,0)*POISSON(E$2,Rechner!$B$18,0) -> 0.02150384 | F4: =POISSON($A4,Rechner!$B$17,0)*POISSON(F$2,Rechner!$B$18,0) -> 0.0061860362 | G4: =POISSON($A4,Rechner!$B$17,0)*POISSON(G$2,Rechner!$B$18,0) -> 0.0014236357 | H4: =POISSON($A4,Rechner!$B$17,0)*POISSON(H$2,Rechner!$B$18,0) -> 0.00027302603 | I4: =POISSON($A4,Rechner!$B$17,0)*POISSON(I$2,Rechner!$B$18,0) -> 4.4880991e-05 | ... L4: =POISSON($A4,Rechner!$B$17,0)*POISSON(L$2,Rechner!$B$18,0) -> 9.4972795e-08
A5: 2 | B5: =POISSON($A5,Rechner!$B$17,0)*POISSON(B$2,Rechner!$B$18,0) -> 0.085634841 | C5: =POISSON($A5,Rechner!$B$17,0)*POISSON(C$2,Rechner!$B$18,0) -> 0.098538721 | D5: =POISSON($A5,Rechner!$B$17,0)*POISSON(D$2,Rechner!$B$18,0) -> 0.056693511 | E5: =POISSON($A5,Rechner!$B$17,0)*POISSON(E$2,Rechner!$B$18,0) -> 0.021745456 | F5: =POISSON($A5,Rechner!$B$17,0)*POISSON(F$2,Rechner!$B$18,0) -> 0.0062555422 | G5: =POISSON($A5,Rechner!$B$17,0)*POISSON(G$2,Rechner!$B$18,0) -> 0.0014396316 | H5: =POISSON($A5,Rechner!$B$17,0)*POISSON(H$2,Rechner!$B$18,0) -> 0.00027609374 | I5: =POISSON($A5,Rechner!$B$17,0)*POISSON(I$2,Rechner!$B$18,0) -> 4.5385272e-05 | ... L5: =POISSON($A5,Rechner!$B$17,0)*POISSON(L$2,Rechner!$B$18,0) -> 9.6039905e-08
A6: 3 | B6: =POISSON($A6,Rechner!$B$17,0)*POISSON(B$2,Rechner!$B$18,0) -> 0.057731353 | C6: =POISSON($A6,Rechner!$B$17,0)*POISSON(C$2,Rechner!$B$18,0) -> 0.066430598 | D6: =POISSON($A6,Rechner!$B$17,0)*POISSON(D$2,Rechner!$B$18,0) -> 0.038220344 | E6: =POISSON($A6,Rechner!$B$17,0)*POISSON(E$2,Rechner!$B$18,0) -> 0.014659858 | F6: =POISSON($A6,Rechner!$B$17,0)*POISSON(F$2,Rechner!$B$18,0) -> 0.0042172194 | G6: =POISSON($A6,Rechner!$B$17,0)*POISSON(G$2,Rechner!$B$18,0) -> 0.00097053817 | H6: =POISSON($A6,Rechner!$B$17,0)*POISSON(H$2,Rechner!$B$18,0) -> 0.00018613061 | I6: =POISSON($A6,Rechner!$B$17,0)*POISSON(I$2,Rechner!$B$18,0) -> 3.0596812e-05 | ... L6: =POISSON($A6,Rechner!$B$17,0)*POISSON(L$2,Rechner!$B$18,0) -> 6.4746003e-08
A7: 4 | B7: =POISSON($A7,Rechner!$B$17,0)*POISSON(B$2,Rechner!$B$18,0) -> 0.02919001 | C7: =POISSON($A7,Rechner!$B$17,0)*POISSON(C$2,Rechner!$B$18,0) -> 0.033588505 | D7: =POISSON($A7,Rechner!$B$17,0)*POISSON(D$2,Rechner!$B$18,0) -> 0.019324893 | E7: =POISSON($A7,Rechner!$B$17,0)*POISSON(E$2,Rechner!$B$18,0) -> 0.0074122878 | F7: =POISSON($A7,Rechner!$B$17,0)*POISSON(F$2,Rechner!$B$18,0) -> 0.002132302 | G7: =POISSON($A7,Rechner!$B$17,0)*POISSON(G$2,Rechner!$B$18,0) -> 0.00049072155 | H7: =POISSON($A7,Rechner!$B$17,0)*POISSON(H$2,Rechner!$B$18,0) -> 9.4110982e-05 | I7: =POISSON($A7,Rechner!$B$17,0)*POISSON(I$2,Rechner!$B$18,0) -> 1.5470298e-05 | ... L7: =POISSON($A7,Rechner!$B$17,0)*POISSON(L$2,Rechner!$B$18,0) -> 3.2736743e-08
A8: 5 | B8: =POISSON($A8,Rechner!$B$17,0)*POISSON(B$2,Rechner!$B$18,0) -> 0.011807195 | C8: =POISSON($A8,Rechner!$B$17,0)*POISSON(C$2,Rechner!$B$18,0) -> 0.013586361 | D8: =POISSON($A8,Rechner!$B$17,0)*POISSON(D$2,Rechner!$B$18,0) -> 0.0078168107 | E8: =POISSON($A8,Rechner!$B$17,0)*POISSON(E$2,Rechner!$B$18,0) -> 0.0029982288 | F8: =POISSON($A8,Rechner!$B$17,0)*POISSON(F$2,Rechner!$B$18,0) -> 0.00086250417 | G8: =POISSON($A8,Rechner!$B$17,0)*POISSON(G$2,Rechner!$B$18,0) -> 0.00019849411 | H8: =POISSON($A8,Rechner!$B$17,0)*POISSON(H$2,Rechner!$B$18,0) -> 3.8067363e-05 | I8: =POISSON($A8,Rechner!$B$17,0)*POISSON(I$2,Rechner!$B$18,0) -> 6.2576488e-06 | ... L8: =POISSON($A8,Rechner!$B$17,0)*POISSON(L$2,Rechner!$B$18,0) -> 1.3241829e-08
A9: 6 | B9: =POISSON($A9,Rechner!$B$17,0)*POISSON(B$2,Rechner!$B$18,0) -> 0.0039799534 | C9: =POISSON($A9,Rechner!$B$17,0)*POISSON(C$2,Rechner!$B$18,0) -> 0.0045796724 | D9: =POISSON($A9,Rechner!$B$17,0)*POISSON(D$2,Rechner!$B$18,0) -> 0.00263488 | E9: =POISSON($A9,Rechner!$B$17,0)*POISSON(E$2,Rechner!$B$18,0) -> 0.0010106389 | F9: =POISSON($A9,Rechner!$B$17,0)*POISSON(F$2,Rechner!$B$18,0) -> 0.00029073174 | G9: =POISSON($A9,Rechner!$B$17,0)*POISSON(G$2,Rechner!$B$18,0) -> 6.6908127e-05 | H9: =POISSON($A9,Rechner!$B$17,0)*POISSON(H$2,Rechner!$B$18,0) -> 1.2831696e-05 | I9: =POISSON($A9,Rechner!$B$17,0)*POISSON(I$2,Rechner!$B$18,0) -> 2.1093198e-06 | ... L9: =POISSON($A9,Rechner!$B$17,0)*POISSON(L$2,Rechner!$B$18,0) -> 4.4635378e-09
A10: 7 | B10: =POISSON($A10,Rechner!$B$17,0)*POISSON(B$2,Rechner!$B$18,0) -> 0.0011499063 | C10: =POISSON($A10,Rechner!$B$17,0)*POISSON(C$2,Rechner!$B$18,0) -> 0.0013231798 | D10: =POISSON($A10,Rechner!$B$17,0)*POISSON(D$2,Rechner!$B$18,0) -> 0.00076128155 | E10: =POISSON($A10,Rechner!$B$17,0)*POISSON(E$2,Rechner!$B$18,0) -> 0.0002919984 | F10: =POISSON($A10,Rechner!$B$17,0)*POISSON(F$2,Rechner!$B$18,0) -> 8.399954e-05 | G10: =POISSON($A10,Rechner!$B$17,0)*POISSON(G$2,Rechner!$B$18,0) -> 1.9331401e-05 | H10: =POISSON($A10,Rechner!$B$17,0)*POISSON(H$2,Rechner!$B$18,0) -> 3.707392e-06 | I10: =POISSON($A10,Rechner!$B$17,0)*POISSON(I$2,Rechner!$B$18,0) -> 6.094343e-07 | ... L10: =POISSON($A10,Rechner!$B$17,0)*POISSON(L$2,Rechner!$B$18,0) -> 1.2896257e-09
A11: 8 | B11: =POISSON($A11,Rechner!$B$17,0)*POISSON(B$2,Rechner!$B$18,0) -> 0.00029070664 | C11: =POISSON($A11,Rechner!$B$17,0)*POISSON(C$2,Rechner!$B$18,0) -> 0.00033451175 | D11: =POISSON($A11,Rechner!$B$17,0)*POISSON(D$2,Rechner!$B$18,0) -> 0.00019245882 | E11: =POISSON($A11,Rechner!$B$17,0)*POISSON(E$2,Rechner!$B$18,0) -> 7.3819821e-05 | F11: =POISSON($A11,Rechner!$B$17,0)*POISSON(F$2,Rechner!$B$18,0) -> 2.1235839e-05 | G11: =POISSON($A11,Rechner!$B$17,0)*POISSON(G$2,Rechner!$B$18,0) -> 4.8871519e-06 | H11: =POISSON($A11,Rechner!$B$17,0)*POISSON(H$2,Rechner!$B$18,0) -> 9.3726202e-07 | I11: =POISSON($A11,Rechner!$B$17,0)*POISSON(I$2,Rechner!$B$18,0) -> 1.5407047e-07 | ... L11: =POISSON($A11,Rechner!$B$17,0)*POISSON(L$2,Rechner!$B$18,0) -> 3.2602896e-10
A12: 9 | B12: =POISSON($A12,Rechner!$B$17,0)*POISSON(B$2,Rechner!$B$18,0) -> 6.5327336e-05 | C12: =POISSON($A12,Rechner!$B$17,0)*POISSON(C$2,Rechner!$B$18,0) -> 7.5171181e-05 | D12: =POISSON($A12,Rechner!$B$17,0)*POISSON(D$2,Rechner!$B$18,0) -> 4.3249173e-05 | E12: =POISSON($A12,Rechner!$B$17,0)*POISSON(E$2,Rechner!$B$18,0) -> 1.6588724e-05 | F12: =POISSON($A12,Rechner!$B$17,0)*POISSON(F$2,Rechner!$B$18,0) -> 4.7720986e-06 | G12: =POISSON($A12,Rechner!$B$17,0)*POISSON(G$2,Rechner!$B$18,0) -> 1.0982364e-06 | H12: =POISSON($A12,Rechner!$B$17,0)*POISSON(H$2,Rechner!$B$18,0) -> 2.1062068e-07 | I12: =POISSON($A12,Rechner!$B$17,0)*POISSON(I$2,Rechner!$B$18,0) -> 3.4622577e-08 | ... L12: =POISSON($A12,Rechner!$B$17,0)*POISSON(L$2,Rechner!$B$18,0) -> 7.3264936e-11
A13: 10 | B13: =POISSON($A13,Rechner!$B$17,0)*POISSON(B$2,Rechner!$B$18,0) -> 1.321227e-05 | C13: =POISSON($A13,Rechner!$B$17,0)*POISSON(C$2,Rechner!$B$18,0) -> 1.520316e-05 | D13: =POISSON($A13,Rechner!$B$17,0)*POISSON(D$2,Rechner!$B$18,0) -> 8.7470237e-06 | E13: =POISSON($A13,Rechner!$B$17,0)*POISSON(E$2,Rechner!$B$18,0) -> 3.3550228e-06 | F13: =POISSON($A13,Rechner!$B$17,0)*POISSON(F$2,Rechner!$B$18,0) -> 9.6514354e-07 | G13: =POISSON($A13,Rechner!$B$17,0)*POISSON(G$2,Rechner!$B$18,0) -> 2.2211523e-07 | H13: =POISSON($A13,Rechner!$B$17,0)*POISSON(H$2,Rechner!$B$18,0) -> 4.259744e-08 | I13: =POISSON($A13,Rechner!$B$17,0)*POISSON(I$2,Rechner!$B$18,0) -> 7.002319e-09 | ... L13: =POISSON($A13,Rechner!$B$17,0)*POISSON(L$2,Rechner!$B$18,0) -> 1.4817627e-11

Sheet Bundesliga 2025-26
A1: Häufigkeit der Endergebnisse nach 90 Minuten, Bundesliga 2025/26 (alle 306 Spiele)
A2: Quelle: Spieldaten von OpenLigaDB, ausgezählt von wettbonus360.com
A4: Ergebnis (Heim:Gast) | B4: Spiele | C4: Anteil
A5: 1:1 | B5: 34 | C5: =B5/SUM($B$5:$B$38) -> 0.11111111
A6: 2:1 | B6: 26 | C6: =B6/SUM($B$5:$B$38) -> 0.08496732
A7: 1:0 | B7: 22 | C7: =B7/SUM($B$5:$B$38) -> 0.071895425
A8: 1:2 | B8: 22 | C8: =B8/SUM($B$5:$B$38) -> 0.071895425
A9: 3:1 | B9: 21 | C9: =B9/SUM($B$5:$B$38) -> 0.068627451
A10: 2:0 | B10: 18 | C10: =B10/SUM($B$5:$B$38) -> 0.058823529
A11: 2:2 | B11: 17 | C11: =B11/SUM($B$5:$B$38) -> 0.055555556
A12: 0:1 | B12: 16 | C12: =B12/SUM($B$5:$B$38) -> 0.052287582
A13: 1:3 | B13: 14 | C13: =B13/SUM($B$5:$B$38) -> 0.045751634
A14: 0:0 | B14: 12 | C14: =B14/SUM($B$5:$B$38) -> 0.039215686
A15: 3:3 | B15: 12 | C15: =B15/SUM($B$5:$B$38) -> 0.039215686
A16: 4:0 | B16: 12 | C16: =B16/SUM($B$5:$B$38) -> 0.039215686
... A38: 8:1 | B38: 1 | C38: =B38/SUM($B$5:$B$38) -> 0.0032679739
A40: Summe | B40: =SUM(B5:B38) -> 306
